BEGIN:VCALENDAR
VERSION:2.0
PRODID:-//eventon.com NONSGML v1.0//EN
CALSCALE:GREGORIAN
METHOD:PUBLISH
BEGIN:VEVENT
UID:69e889cd8f10e
DTSTAMP:20260422T084149Z
DTSTART:20220820T080000Z
DTEND:20220820T160000Z
LOCATION:
SUMMARY:Speelwarden Modern toernooi
DESCRIPTION:Magicers en geïnteresseerden\,    Op zaterdag 20 Augustus org
 aniseert het UCP Speelwarden\,  een bordspellen beurs in Leeuwarden waarvan
  het de bedoeling is dat deze jaarlijks terugkomt. Nou is het UCP meer dan 
 alleen bordspellen ook worden er kaartspellen en Wargames  (Warhammer etc.
 ) gespeeld.    Als organisatie van de Magic hier[..]\nhttps://untap.nl/ev
 ents/speelwarden-modern-toernooi/
URL:https://untap.nl/events/speelwarden-modern-toernooi/
END:VEVENT
END:VCALENDAR