BEGIN:VCALENDAR
VERSION:2.0
PRODID:-//eventon.com NONSGML v1.0//EN
CALSCALE:GREGORIAN
METHOD:PUBLISH
BEGIN:VEVENT
UID:69e620721e710
DTSTAMP:20260420T124746Z
DTSTART:20211010T090000Z
DTEND:20211010T150000Z
LOCATION:Buurtcentrum 't Vogelnest\,  Apeldoorn Spreeuwenweg 1A\,  7331 GV Apeldoorn
SUMMARY:Apeldoorn Modern Oktober 2021
DESCRIPTION:Locatie: ‘t Vogelnest te Apeldoorn Aanvang: 11:00 uur (inschr
 ijven vanaf 10:30) Deelname: € 15\, - graag contant en gepast betalen. Ma
 ximaal aantal deelnemers: 26 Prize support: We verdelen het inschrijfgeld m
 inus de huur voor de zaal over de top 4/8/X (afhangend van het aantal spele
 rs). Voorinschrijven: Het inschrijven is verplicht. Je[..]\nhttps://untap.n
 l/events/apeldoorn-modern-oktober-2021/
URL:https://untap.nl/events/apeldoorn-modern-oktober-2021/
END:VEVENT
END:VCALENDAR