BEGIN:VCALENDAR
VERSION:2.0
PRODID:-//eventon.com NONSGML v1.0//EN
CALSCALE:GREGORIAN
METHOD:PUBLISH
BEGIN:VEVENT
UID:69e72ea87637d
DTSTAMP:20260421T080040Z
DTSTART:20180824T080000Z
DTEND:20180826T210000Z
LOCATION:
SUMMARY:Grand Prix Praag (Modern)
DESCRIPTION:Grand Prix&#8217;s zijn de grootste wereldwijd gerunde vrij toe
 gankelijke Magic evenementen. Een 3-daags festival met een 2-daags main eve
 nt met een minimale prijzenpot van $50.000\, -\,  talloze side events\,  ee
 n Magic marketplace en artists die kaarten signeren. Het formaat van het ma
 in event is Standard. Kijk voor meer informatie op de[..]\nhttps://untap.nl
 /events/grand-prix-praag-modern/
URL:https://untap.nl/events/grand-prix-praag-modern/
END:VEVENT
END:VCALENDAR