BEGIN:VCALENDAR
VERSION:2.0
PRODID:-//eventon.com NONSGML v1.0//EN
CALSCALE:GREGORIAN
METHOD:PUBLISH
BEGIN:VEVENT
UID:69e740b541852
DTSTAMP:20260421T091741Z
DTSTART:20210918T180000Z
DTEND:20210917T220000Z
LOCATION:The Games Guild\,  Alphen aan den Rijn Van Nesstraat 1A\,  2404 AV Alphen a/d Rijn
SUMMARY:SATURDAY MODERN MIDNIGHT HUNT LEGAL @THE GAMES GUILD
DESCRIPTION:Date: Saturday\,  18 September 2021Tournament start time:&nbsp;
 20:00Player Cap:&nbsp;32Format: ModernEntry: Є7\, -Prize support:&nbsp;Boo
 sters x PlayersREL:&nbsp;RegularOrganizers: Benjamin Shawki\, &nbsp;Tsjoewa
  Lin (Storeowner)Rounds: 3-5 roundsDecklist: Not Required but highly apprec
 iated for content creation. Paper or send by email\,  either is fine. Pleas
 e send to&nbsp;info@gamesguild.nl&nbsp;“First Name Surname Decklist.txt
 Proxies: Allowed –&nbsp;Proxy GuideTournament software: Companion App&nb
 sp;Please download the “MTG[..]\nhttps://untap.nl/events/guild-clash-mode
 rn-the-games-guild/
URL:https://untap.nl/events/guild-clash-modern-the-games-guild/
END:VEVENT
END:VCALENDAR