BEGIN:VCALENDAR
VERSION:2.0
PRODID:-//eventon.com NONSGML v1.0//EN
CALSCALE:GREGORIAN
METHOD:PUBLISH
BEGIN:VEVENT
UID:69e8a1d02b8bc
DTSTAMP:20260422T102416Z
DTSTART:20211030T100000Z
DTEND:20211030T180000Z
LOCATION:2 Klaveren\,  Amsterdam De Clercqstraat 136\,  1052 NP Amsterdam
SUMMARY:Back to the Basics Amsterdam 2 klaveren
DESCRIPTION:Gecanceled wegens gebrek aan belangstelling\nhttps://untap.nl/e
 vents/back-to-the-basics-amsterdam-2-klaveren/
URL:https://untap.nl/events/back-to-the-basics-amsterdam-2-klaveren/
END:VEVENT
END:VCALENDAR