BEGIN:VCALENDAR
VERSION:2.0
PRODID:-//eventon.com NONSGML v1.0//EN
CALSCALE:GREGORIAN
METHOD:PUBLISH
BEGIN:VEVENT
UID:69e89fa0e315e
DTSTAMP:20260422T101456Z
DTSTART:20230217T180000Z
DTEND:20230217T220000Z
LOCATION:Het Lab\,  Utrecht Oudegracht 207\,  3511NH Utrecht
SUMMARY:FNM MODERN @TLAB UTRECHT
DESCRIPTION:Join us every two weeks* on Friday at 19:00 for Modern! Booster
  prizes are awarded based on your success at the tournament. Also the winne
 r and 1 randomly chosen players get a special FNM booster!&nbsp; Participat
 ion fee:&nbsp;€7.5.&nbsp; Rounds:&nbsp;We play 4 rounds of Swiss (you are
  able to play in all[..]\nhttps://untap.nl/events/mystery-booster-draft-tla
 b-utrecht/
URL:https://untap.nl/events/mystery-booster-draft-tlab-utrecht/
END:VEVENT
END:VCALENDAR