BEGIN:VCALENDAR
VERSION:2.0
PRODID:-//eventon.com NONSGML v1.0//EN
CALSCALE:GREGORIAN
METHOD:PUBLISH
BEGIN:VEVENT
UID:69e4d641c8961
DTSTAMP:20260419T131857Z
DTSTART:20200315T100000Z
DTEND:20200315T170000Z
LOCATION:4 Your Games\,  Dordrecht Voorstraat 410\,  3311CX Dordrecht
SUMMARY:DOQ Pioneer hosted by 4YourGames
DESCRIPTION:What is a Dutch Open Qualifier? A Dutch Open Qualifier (DOQ) ar
 e the qualifier tournaments for the Dutch Open Series (www.dutchopenseries.
 nl). The winner of this event will receive an invite for a (constructed) Du
 tch Open Series event including 1 bye. DOQ&#8217;s are tournament regulatio
 n: competitive and require a deck list.[..]\nhttps://untap.nl/events/doq-pi
 oneer-hosted-by-4yourgames-3/
URL:https://untap.nl/events/doq-pioneer-hosted-by-4yourgames-3/
END:VEVENT
END:VCALENDAR