BEGIN:VCALENDAR
VERSION:2.0
PRODID:-//eventon.com NONSGML v1.0//EN
CALSCALE:GREGORIAN
METHOD:PUBLISH
BEGIN:VEVENT
UID:69e4ebd6710cf
DTSTAMP:20260419T145102Z
DTSTART:20200313
DTEND:20200314
LOCATION:De Tafelridder\,  Leiden Oude Herengracht 11A\,  2312LN Leiden
SUMMARY:Casual Commander @DeTafelridder Leiden
DESCRIPTION:Dit weekend zijn de deuren geopend voor casual Commander play\,
   kom je meespelen? Dan mag je een promo uit de promomap uitzoeken (max. 1/
 dag). Gedurende het weekend kan je je ook aanmelden voor On Demand Mystery 
 Booster drafts\nhttps://untap.nl/events/casual-commander-detafelridder-leid
 en/
URL:https://untap.nl/events/casual-commander-detafelridder-leiden/
END:VEVENT
END:VCALENDAR