BEGIN:VCALENDAR
VERSION:2.0
PRODID:-//eventon.com NONSGML v1.0//EN
CALSCALE:GREGORIAN
METHOD:PUBLISH
BEGIN:VEVENT
UID:69e5d04c593c5
DTSTAMP:20260420T070548Z
DTSTART:20191208T120000Z
DTEND:20191208T225000Z
LOCATION:De Spellentoren\,  Alkmaar Schoutenstraat 28\,  1811 HD Alkmaar
SUMMARY:Pioneer @ De Spellentoren (Alkmaar)
DESCRIPTION:Pioneer @ De Spellentoren in Alkmaar.&nbsp; Aanvang: 12:00&nbsp
 ; Entree: € 10\, -&nbsp; Prijssupport: 2 booster p.p. in de pot. Rules En
 forcement: regular&nbsp; Max. aantal deelnemers: 20&nbsp; Vooraf aanmelden 
 is gewenst via: de evenementen login. Adres: Schoutenstraat 28 1811 HD Alkm
 aar\nhttps://untap.nl/events/standardde-spellentoren-alkmaar/var/ri-1.l-L1
URL:https://untap.nl/events/standardde-spellentoren-alkmaar/var/ri-1.l-L1
END:VEVENT
END:VCALENDAR