BEGIN:VCALENDAR
VERSION:2.0
PRODID:-//eventon.com NONSGML v1.0//EN
CALSCALE:GREGORIAN
METHOD:PUBLISH
BEGIN:VEVENT
UID:69e72e8f7c3c6
DTSTAMP:20260421T080015Z
DTSTART:20191001T100000Z
DTEND:20191001T180000Z
LOCATION:2 Klaveren\,  Amsterdam De Clercqstraat 136\,  1052 NP Amsterdam
SUMMARY:WPN test
DESCRIPTION:WPN test\nhttps://untap.nl/events/wpn-test/
URL:https://untap.nl/events/wpn-test/
END:VEVENT
END:VCALENDAR