BEGIN:VCALENDAR
VERSION:2.0
PRODID:-//eventon.com NONSGML v1.0//EN
CALSCALE:GREGORIAN
METHOD:PUBLISH
BEGIN:VEVENT
UID:69e6ced1125f1
DTSTAMP:20260421T011145Z
DTSTART:20191128T180000Z
DTEND:20191128T225000Z
LOCATION:Prizecards\,  Deventer Kazernestraat 12\,  7411 CJ Deventer
SUMMARY:Booster Draft – Throne of Eldraine @ Prizecards.nl\,  Deventer
DESCRIPTION:Format: Draft &#8211; Throne of Eldraine Deelname: € 15 Boost
 ers in prijzenpot: 1 per persoon Om de donderdag spelen we een Magic booste
 r draft bij Prizecards! Voor € 15 krijg je drie boosters\,  waarmee jij e
 n je tegenspelers een deck van minimaal 40 kaarten maken. Daarnaast gaat er
  voor elke[..]\nhttps://untap.nl/events/booster-draft-throne-of-eldraine-pr
 izecards-nl-deventer-2/var/ri-1.l-L1
URL:https://untap.nl/events/booster-draft-throne-of-eldraine-prizecards-nl-deventer-2/var/ri-1.l-L1
END:VEVENT
END:VCALENDAR