BEGIN:VCALENDAR
VERSION:2.0
PRODID:-//eventon.com NONSGML v1.0//EN
CALSCALE:GREGORIAN
METHOD:PUBLISH
BEGIN:VEVENT
UID:69e9d77be3ad8
DTSTAMP:20260423T082531Z
DTSTART:20191027T100000Z
DTEND:20191027T160000Z
LOCATION:Buurtcentrum 't Vogelnest\,  Apeldoorn Spreeuwenweg 1A\,  7331 GV Apeldoorn
SUMMARY:Apeldoorn Modern Oktober 2019
DESCRIPTION:Locatie: ‘t Vogelnest te Apeldoorn Aanvang: 11:00 uur (inschr
 ijven vanaf 10:30) Deelname: € 10\, - graag contant en gepast betalen. Pr
 ize support: We verdelen het inschrijfgeld minus de huur voor de zaal over 
 de top 4/8/X (afhangend van het aantal spelers). Voorinschrijven: Niet nodi
 g. Laten weten dat je komt is wel[..]\nhttps://untap.nl/events/apeldoorn-mo
 dern-oktober-2019/
URL:https://untap.nl/events/apeldoorn-modern-oktober-2019/
END:VEVENT
END:VCALENDAR