BEGIN:VCALENDAR
VERSION:2.0
PRODID:-//eventon.com NONSGML v1.0//EN
CALSCALE:GREGORIAN
METHOD:PUBLISH
BEGIN:VEVENT
UID:69e889e9b8646
DTSTAMP:20260422T084217Z
DTSTART:20191005T090000Z
DTEND:20191005T215000Z
LOCATION:Buurthuis Rengerspark\,  Leeuwarden Singelstraat 22\,  8917 BK Leeuwarden
SUMMARY:DOQ Standaard @ Magic Leeuwarden
DESCRIPTION:Op 5 oktober organiseren we weer een Dutch Open Series Qualifie
 r! De winnaar van dit toernooi krijgt gratis toegang en een bye voor een DO
 S constructed toernooi! REL: Competitive\,  een decklijst is verplicht. Dee
 lname: 15\, - Het is niet mogelijk om te pinnen. Formaat: Standard Head Jud
 ge: Timon van den Berg[..]\nhttps://untap.nl/events/doq-standaard-magic-lee
 uwarden/
URL:https://untap.nl/events/doq-standaard-magic-leeuwarden/
END:VEVENT
END:VCALENDAR