BEGIN:VCALENDAR
VERSION:2.0
PRODID:-//eventon.com NONSGML v1.0//EN
CALSCALE:GREGORIAN
METHOD:PUBLISH
BEGIN:VEVENT
UID:69e73ee09761c
DTSTAMP:20260421T090952Z
DTSTART:20180719T173000Z
DTEND:20180719T214500Z
LOCATION:P60 Café\,  Amstelveen Stadsplein 100A\,  1181ZM Amstelveen
SUMMARY:The Draft @ P60
DESCRIPTION:In samenwerking met NederMagic en onder begeleiding van Head Ju
 dge Dustin de Leeuw is er weer de goedkoopste en gezelligste draft van Amst
 elveen in P60! Prijzen Deelname kost 10 euro\,  hiervoor krijg je 3 booster
 s om te draften en per persoon gaat er 1 booster in de prijzenpot; wat je[.
 .]\nhttps://untap.nl/events/the-draft-p60/
URL:https://untap.nl/events/the-draft-p60/
END:VEVENT
END:VCALENDAR