BEGIN:VCALENDAR
VERSION:2.0
PRODID:-//eventon.com NONSGML v1.0//EN
CALSCALE:GREGORIAN
METHOD:PUBLISH
BEGIN:VEVENT
UID:69e88c4bd4cbf
DTSTAMP:20260422T085227Z
DTSTART:20181125T100000Z
DTEND:20181125T160000Z
LOCATION:2 Klaveren\,  Amsterdam De Clercqstraat 136\,  1052 NP Amsterdam
SUMMARY:Legacy Bimonthly
DESCRIPTION:De Legacy Bimonthly is in 2018 permanent op de zondag! Gratis p
 arkeren (ten westen van het water\,  aan de overkant van de brug)\,  goedko
 pe deelname en altijd gezellig! Bezoek ook onze Facebook pagina! Formaat: L
 egacy! Kosten: 15 euro Aantal plaatsen: 64 Consumpties: Cafe 2 Klaveren hee
 ft eerlijk eten voor een[..]\nhttps://untap.nl/events/legacy-bimonthly-2/
URL:https://untap.nl/events/legacy-bimonthly-2/
END:VEVENT
END:VCALENDAR