BEGIN:VCALENDAR
VERSION:2.0
PRODID:-//eventon.com NONSGML v1.0//EN
CALSCALE:GREGORIAN
METHOD:PUBLISH
BEGIN:VEVENT
UID:69e72d40bb1e7
DTSTAMP:20260421T075440Z
DTSTART:20190929T093000Z
DTEND:20190929T215000Z
LOCATION:The Games Guild\,  Alphen aan den Rijn Van Nesstraat 1A\,  2404 AV Alphen a/d Rijn
SUMMARY:Pre Release 3 – Throne of Eldraine @The Games Guild
DESCRIPTION:Pre-Release 3 – 29 sep start 11:30. Indien je voor een van d
 e andere dagen wenst in te schrijven\,  kijk dan op de andere dagen op de k
 alender. De nieuwe set is er bijna\,  en daarom is er een pre-release van d
 eze set zodat we een week voor release al kunnen[..]\nhttps://untap.nl/even
 ts/pre-release-3-throne-of-eldrainethe-games-guild/
URL:https://untap.nl/events/pre-release-3-throne-of-eldrainethe-games-guild/
END:VEVENT
END:VCALENDAR