BEGIN:VCALENDAR
VERSION:2.0
PRODID:-//eventon.com NONSGML v1.0//EN
CALSCALE:GREGORIAN
METHOD:PUBLISH
BEGIN:VEVENT
UID:69e7426a17647
DTSTAMP:20260421T092458Z
DTSTART:20190816T173000Z
DTEND:20190816T213000Z
LOCATION:Het Element\,  Zaandam Zilverschoonplein 18\,  1508 CK Zaandam
SUMMARY:Amonkhet\,  Blast from the Past! Draft in Zaandam
DESCRIPTION:Stap in onze tijdmachine\,  helemaal terug naar 2017\,  voor de
 ze Blast from the Past! We gaan terug naar Amonkhet! Deelname:&nbsp;12 euro
 &nbsp;(voor 3 boosters Amonkhet om mee te Draften en 1 voor de prijzenpot) 
 Maximaal 8 deelnemers en minimaal 6. Pinnen is mogelijk. Het adres van&nbsp
 ;Het Element&nbsp;is&nbsp;Zilverschoonplein 18&nbsp; (we zitten tegenover[.
 .]\nhttps://untap.nl/events/amonkhet-blast-from-the-past-draft-in-zaandam/
URL:https://untap.nl/events/amonkhet-blast-from-the-past-draft-in-zaandam/
END:VEVENT
END:VCALENDAR