BEGIN:VCALENDAR
VERSION:2.0
PRODID:-//eventon.com NONSGML v1.0//EN
CALSCALE:GREGORIAN
METHOD:PUBLISH
BEGIN:VEVENT
UID:69e889c66d238
DTSTAMP:20260422T084142Z
DTSTART:20190915T091500Z
DTEND:20190915T170000Z
LOCATION:Bazaar of Magic\,  Delft Schieweg 87c\,  2627 AT Delft
SUMMARY:DOS Qualifier - Modern @ BoM
DESCRIPTION:Op zondag Zondag 15 september organiseert Bazaar of Magic een D
 utch Open Series Qualifier. Het formaat van deze Qualifier is Modern. Prij
 zen De winnaar krijgt een gratis entreeticket en een bye voor de volgende D
 utch Open Series. De top 8 ontvangt ook Dutch Open Points voor de Player&#8
 217;s Championship. Overige prijzen[..]\nhttps://untap.nl/events/dos-qualif
 ier-modern-bom/
URL:https://untap.nl/events/dos-qualifier-modern-bom/
END:VEVENT
END:VCALENDAR