BEGIN:VCALENDAR
VERSION:2.0
PRODID:-//eventon.com NONSGML v1.0//EN
CALSCALE:GREGORIAN
METHOD:PUBLISH
BEGIN:VEVENT
UID:69e72ea50705d
DTSTAMP:20260421T080037Z
DTSTART:20190810T080000Z
DTEND:20190810T215000Z
LOCATION:The Games Guild\,  Alphen aan den Rijn Van Nesstraat 1A\,  2404 AV Alphen a/d Rijn
SUMMARY:Qualifier EMS – Modern Constructed @ Games Guild
DESCRIPTION:Op zaterdag 10 augustus 2019 organiseert The Games Guild de twe
 ede van 2 Qualifiers voor de European Modern Series (EMS). Het format van d
 eze (tweede) qualifier is Modern Constructed. Die van de 1ste (29 juni) is 
 Sealed.Qualifier EMSDe prijzenpot van deze qualifier is gevuld met TIX (2-3
  per persoon afhankelijk[..]\nhttps://untap.nl/events/qualifier-ems-modern-
 constructed-games-guild/
URL:https://untap.nl/events/qualifier-ems-modern-constructed-games-guild/
END:VEVENT
END:VCALENDAR