BEGIN:VCALENDAR
VERSION:2.0
PRODID:-//eventon.com NONSGML v1.0//EN
CALSCALE:GREGORIAN
METHOD:PUBLISH
BEGIN:VEVENT
UID:69e836fc12977
DTSTAMP:20260422T024828Z
DTSTART:20190616T110000Z
DTEND:20190616T160000Z
LOCATION:Het Element\,  Zaandam Zilverschoonplein 18\,  1508 CK Zaandam
SUMMARY:Modern Horizons Draft – Zaandam
DESCRIPTION:Deelname: 18&nbsp;euro&nbsp;(voor 3 boosters om mee te Draften)
  Om het een beetje betaalbaar te houden doen we deze Draft zonder prize sup
 port. Let op: Deze Draft&nbsp;gaat alleen door bij 8 deelnemers&nbsp;(ander
 s proberen we het de volgende zondag opnieuw) Pinnen is mogelijk. Zilversch
 oonplein 18&nbsp;is de winkel tegenover de Dekamarkt op het[..]\nhttps://un
 tap.nl/events/modern-horizons-draft-zaandam-2/
URL:https://untap.nl/events/modern-horizons-draft-zaandam-2/
END:VEVENT
END:VCALENDAR