BEGIN:VCALENDAR
VERSION:2.0
PRODID:-//eventon.com NONSGML v1.0//EN
CALSCALE:GREGORIAN
METHOD:PUBLISH
BEGIN:VEVENT
UID:69e748cd93c66
DTSTAMP:20260421T095213Z
DTSTART:20190427T130000Z
DTEND:20190427T215500Z
LOCATION:De Spellentoren\,  Alkmaar Schoutenstraat 28\,  1811 HD Alkmaar
SUMMARY:2HG – Prerelease War of the Spark @ De Spellentoren (Alkmaar)
DESCRIPTION:Koningsdag 2HG prerelease War of the Spark! Start om 15:00 Entr
 ee € 27\, 50 per persoon Ruimte voor 14 teams.&nbsp; Graag vooraf aanmeld
 en via:&nbsp;info@despellentoren.nlZonder aanmelding kan er geen garantie o
 p een plek gegeven worden. Tijdens de prerelease is het mogelijk om denieuw
 e producten van War of the Spark verkocht te kopen:[..]\nhttps://untap.nl/e
 vents/2hg-prerelease-war-of-the-spark-spellentoren-alkmaar/
URL:https://untap.nl/events/2hg-prerelease-war-of-the-spark-spellentoren-alkmaar/
END:VEVENT
END:VCALENDAR