BEGIN:VCALENDAR
VERSION:2.0
PRODID:-//eventon.com NONSGML v1.0//EN
CALSCALE:GREGORIAN
METHOD:PUBLISH
BEGIN:VEVENT
UID:69ecf90ba2f01
DTSTAMP:20260425T172531Z
DTSTART:20190615T090000Z
DTEND:20190615T215000Z
LOCATION:Het Lab\,  Utrecht Oudegracht 207\,  3511NH Utrecht
SUMMARY:Utrecht Pauper Series II
DESCRIPTION:Let&#8217;s keep the flame of Pauper Magic burning in Utrecht.&
 nbsp;In collaboration with the Amsterdam Pauper Series Utrecht will now be 
 hosting occasional Pauper tournaments as well.&nbsp;This easy to get into c
 asual format is suited for new and experienced players. You can pick a Tier
 1 deck under a hundred euro easily.&nbsp;Want[..]\nhttps://untap.nl/events/
 utrecht-pauper-mtg-ii/
URL:https://untap.nl/events/utrecht-pauper-mtg-ii/
END:VEVENT
END:VCALENDAR