BEGIN:VCALENDAR
VERSION:2.0
PRODID:-//eventon.com NONSGML v1.0//EN
CALSCALE:GREGORIAN
METHOD:PUBLISH
BEGIN:VEVENT
UID:69e730a5df402
DTSTAMP:20260421T080909Z
DTSTART:20190526T080000Z
DTEND:20190526T215000Z
LOCATION:Fletcher Hotel\,  Nieuwegein Buizerdlaan 10\,  3435 SB Nieuwegein
SUMMARY:Mythic Championship Qualifier @ Utrecht
DESCRIPTION:Date: Sunday\,  26 May Time: Open 09.00\,  start at 10.00 sharp
 ! Players cap: 220 No minimum Planeswalker Points needed to attend. Standar
 d Constructed. Decklists are required. Planeswalker Point Multiplier 5X. Ti
 ckets: Buy your ticket at the website of the Dutch Open Series Entrance fee
 : € 45\, - This is a very[..]\nhttps://untap.nl/events/mythic-championshi
 p-qualifier-utrecht/
URL:https://untap.nl/events/mythic-championship-qualifier-utrecht/
END:VEVENT
END:VCALENDAR