BEGIN:VCALENDAR
VERSION:2.0
PRODID:-//eventon.com NONSGML v1.0//EN
CALSCALE:GREGORIAN
METHOD:PUBLISH
BEGIN:VEVENT
UID:69e72f147623e
DTSTAMP:20260421T080228Z
DTSTART:20190629T090000Z
DTEND:20190629T143000Z
LOCATION:2 Klaveren\,  Amsterdam De Clercqstraat 136\,  1052 NP Amsterdam
SUMMARY:Amsterdam Pauper Series III @ 2K
DESCRIPTION:Welcome to the second of many Amsterdam Pauper Series events in
  Amsterdam for 2019! This event\,  as all the others\,  will count for qual
 ifying to the Paypervitational 2020. At the conclusion of the 2019 regular 
 events\,  the Top 16 players in the final 2019 Yearly Standings will be aw
 arded invitations to[..]\nhttps://untap.nl/events/amsterdam-pauper-series-i
 ii/
URL:https://untap.nl/events/amsterdam-pauper-series-iii/
END:VEVENT
END:VCALENDAR