BEGIN:VCALENDAR
VERSION:2.0
PRODID:-//eventon.com NONSGML v1.0//EN
CALSCALE:GREGORIAN
METHOD:PUBLISH
BEGIN:VEVENT
UID:69e74398413f9
DTSTAMP:20260421T093000Z
DTSTART:20190324T100000Z
DTEND:20190324T225000Z
LOCATION:Buurtcentrum 't Vogelnest\,  Apeldoorn Spreeuwenweg 1A\,  7331 GV Apeldoorn
SUMMARY:Apeldoorn Legacy Maart 2019 - MKM Gent Trial
DESCRIPTION:Op deze tweede Legacy Bimonthly van 2019 is er&#8230; &#8230;ca
 sh te winnen! &#8230;een MKM Gent Bye\,  MCM Credit en een playmat te winne
 n!* &#8230;een aantal leaderboardpunten te winnen! Aanvang: 11:00 uur Deeln
 ame: € 15\, - graag contant en gepast betalen. Prize support: We verdelen
  het inschrijfgeld minus de huur voor de[..]\nhttps://untap.nl/events/apeld
 oorn-legacy-maart-2019-mkm-gent-trial/
URL:https://untap.nl/events/apeldoorn-legacy-maart-2019-mkm-gent-trial/
END:VEVENT
END:VCALENDAR