BEGIN:VCALENDAR
VERSION:2.0
PRODID:-//eventon.com NONSGML v1.0//EN
CALSCALE:GREGORIAN
METHOD:PUBLISH
BEGIN:VEVENT
UID:69e740e6911d8
DTSTAMP:20260421T091830Z
DTSTART:20260517T090000Z
DTEND:20260517T150000Z
LOCATION:Stayokay\,  Amsterdam Oost Stayokay Hostel Amsterdam Oost\,  Timorplein 21\,  1094CC Amsterdam
SUMMARY:Regional Championship Qualifier\,  Modern @ Stayokay Oost
DESCRIPTION:Zondag 17 Mei organiseren we een Round 1 Regional Championship 
 Qualifier waarbij je je kunt kwalificeren voor de Ultimate European Magic S
 eries Regional Championships&nbsp;in Gent op 9-11 oktober 2026. Er kunnen m
 aximaal 32 spelers meedoen en er is een leuke prijzenpot waarin twee booste
 rs per deelnemer wordt gestort plus promo’s.[..]\nhttps://untap.nl/events
 /regional-championship-qualifier-modern-stayokay-oost-3/
URL:https://untap.nl/events/regional-championship-qualifier-modern-stayokay-oost-3/
END:VEVENT
END:VCALENDAR