BEGIN:VCALENDAR
VERSION:2.0
PRODID:-//eventon.com NONSGML v1.0//EN
CALSCALE:GREGORIAN
METHOD:PUBLISH
BEGIN:VEVENT
UID:69e72f1329dea
DTSTAMP:20260421T080227Z
DTSTART:20260606T090000Z
DTEND:20260606T150000Z
LOCATION:Face to Face Games\,  Rotterdam Hoogstraat 20A 3011PP\,  Rotterdam
SUMMARY:Super Saturday Modern @ Face To Face Games Rotterdam
DESCRIPTION:Format: Modern Start: 11:00 Rounds: 3-5 rounds followed by a to
 p 4/8 Entry Fee: € 14\, 99 Prize Pool: For each player 3 boosters of the 
 latest set will be added to the prizepool. Register via: email: rotterdam@f
 acetofacegames.com\nhttps://untap.nl/events/super-saturday-modern-face-to-f
 ace-games-rotterdam-4/
URL:https://untap.nl/events/super-saturday-modern-face-to-face-games-rotterdam-4/
END:VEVENT
END:VCALENDAR