BEGIN:VCALENDAR
VERSION:2.0
PRODID:-//eventon.com NONSGML v1.0//EN
CALSCALE:GREGORIAN
METHOD:PUBLISH
BEGIN:VEVENT
UID:69e86c2e44fbe
DTSTAMP:20260422T063526Z
DTSTART:20260516T090000Z
DTEND:20260516T150000Z
LOCATION:Face to Face Games\,  Rotterdam Hoogstraat 20A 3011PP\,  Rotterdam
SUMMARY:RCQ Round 1 2026/2027 Modern @ FACE TO FACE GAMES ROTTERDAM
DESCRIPTION:Wil jij je kwalificeren voor de Regional Championship in Gent (
 9 t/m 11 oktober 2026)? Dan is dit jouw moment. Met deze RCQ kun jij die fe
 lbegeerde invite bemachtigen. Datum: Zaterdag 16 mei 2026 Start: 11:00 Insc
 hrijfkosten: €32\, 49 Formaat: Modern Cap: 32 spelers Rondes: • 8 spele
 rs: Single Elimination •[..]\nhttps://untap.nl/events/rcq-round-1-2026-20
 27-modern-face-to-face-games-rotterdam/
URL:https://untap.nl/events/rcq-round-1-2026-2027-modern-face-to-face-games-rotterdam/
END:VEVENT
END:VCALENDAR