BEGIN:VCALENDAR
VERSION:2.0
PRODID:-//eventon.com NONSGML v1.0//EN
CALSCALE:GREGORIAN
METHOD:PUBLISH
BEGIN:VEVENT
UID:69e866abd5ab6
DTSTAMP:20260422T061155Z
DTSTART:20260509T090000Z
DTEND:20260509T150000Z
LOCATION:
SUMMARY:WPC Spring Ed. 2026
DESCRIPTION:WPC Spring Edition Wanneer: Zaterdag 9 mei – Walk-in vanaf 10
 :30\,  ronde 1 start om 11:00 Waar: Stichting Nu De Toekomst\,  Mennonieten
 weg 15A\,  Wageningen Format: Pauper Swiss\,  5 rondes van 50 min\,  unlimi
 ted proxies toegestaan Entree: Gratis Prijzen:&nbsp;Community Prize Pool\, 
  WPC Champion playmat voor de winnaar en extra prijzen voor[..]\nhttps://un
 tap.nl/events/wpc-spring-ed-2026/
URL:https://untap.nl/events/wpc-spring-ed-2026/
END:VEVENT
END:VCALENDAR