BEGIN:VCALENDAR
VERSION:2.0
PRODID:-//eventon.com NONSGML v1.0//EN
CALSCALE:GREGORIAN
METHOD:PUBLISH
BEGIN:VEVENT
UID:69e88a48b8109
DTSTAMP:20260422T084352Z
DTSTART:20260221T100000Z
DTEND:20260221T170000Z
LOCATION:Stayokay\,  Amsterdam Oost Stayokay Hostel Amsterdam Oost\,  Timorplein 21\,  1094CC Amsterdam
SUMMARY:Store Championship\,  Standard @ Stayokay Oost
DESCRIPTION:Zaterdag 21 februari organiseren we een Store Championship. Er 
 kunnen maximaal 32 spelers meedoen en er is een mooie prijzenpot waarin twe
 e Lorwyn Eclipsed boosters per deelnemer wordt gestort plus de volgende pro
 mo’s: ·&nbsp;&nbsp;&nbsp;&nbsp;&nbsp; Iedereen in de top 16 ontvangt een
  Goblin Bombardment ·&nbsp;&nbsp;&nbsp;&nbsp;&nbsp; Iedereen in de top 8 o
 ntvangt[..]\nhttps://untap.nl/events/store-championship-standard-stayokay-o
 ost/
URL:https://untap.nl/events/store-championship-standard-stayokay-oost/
END:VEVENT
END:VCALENDAR