BEGIN:VCALENDAR
VERSION:2.0
PRODID:-//eventon.com NONSGML v1.0//EN
CALSCALE:GREGORIAN
METHOD:PUBLISH
BEGIN:VEVENT
UID:69e83e968b3d2
DTSTAMP:20260422T032054Z
DTSTART:20260428T170000Z
DTEND:20260428T210000Z
LOCATION:Two Chefs\,  Amsterdam Hugo de Grootplein 15\,  1052 KV Amsterdam
SUMMARY:TUESDAY evening Secrets of Strixhaven draft at Two Chefs!
DESCRIPTION:EENMALIG verplaatst van maandag naar dinsdag! Vanavond draften 
 we Secrets of Strixhaven! Deelname:&nbsp;€20. Bestel ajb wat te eten of d
 rinken bij het cafe. We beginnen om 19:00. Je hoeft je niet van te voren in
  te schrijven. for ONE time we will plan on tuesday instead of monday! Toda
 y we’re[..]\nhttps://untap.nl/events/tuesday-evening-avatar-draft-at-two-
 chefs/
URL:https://untap.nl/events/tuesday-evening-avatar-draft-at-two-chefs/
END:VEVENT
END:VCALENDAR