BEGIN:VCALENDAR
VERSION:2.0
PRODID:-//eventon.com NONSGML v1.0//EN
CALSCALE:GREGORIAN
METHOD:PUBLISH
BEGIN:VEVENT
UID:69e7316e5e703
DTSTAMP:20260421T081230Z
DTSTART:20191006T091500Z
DTEND:20191006T143000Z
LOCATION:2 Klaveren\,  Amsterdam De Clercqstraat 136\,  1052 NP Amsterdam
SUMMARY:Budget Sealed @ 2K
DESCRIPTION:Sinds oktober 2014 organiseren we met veel plezier de Legacy Bi
 monthly en de Budget Sealed in de 2 Klaveren in Amsterdam. We houden de kos
 ten zo laag mogelijk\,  zodat we zoveel mogelijk prijzen weg kunnen geven. 
 Helaas hebben we nu 3 tegenvallers:&nbsp; -Wizards heeft opeens besloten om
  de prijzen van[..]\nhttps://untap.nl/events/budget-sealed-2k-5/
URL:https://untap.nl/events/budget-sealed-2k-5/
END:VEVENT
END:VCALENDAR