BEGIN:VCALENDAR
VERSION:2.0
PRODID:-//eventon.com NONSGML v1.0//EN
CALSCALE:GREGORIAN
METHOD:PUBLISH
BEGIN:VEVENT
UID:69e88a8ad10eb
DTSTAMP:20260422T084458Z
DTSTART:20250531T100000Z
DTEND:20250531T160000Z
LOCATION:
SUMMARY:Women in Magic Casual Play Day #3
DESCRIPTION:Join us for our second Women in Magic Casual Play Day on Saturd
 ay May 31th 12u till 18u. The event is for women and gender nonconforming p
 eople only. If you&#8217;re a cis man and you want to join\,  keep an eye o
 ut for our mixed events! In short: Bring your[..]\nhttps://untap.nl/events/
 women-in-magic-casual-play-day-3/
URL:https://untap.nl/events/women-in-magic-casual-play-day-3/
END:VEVENT
END:VCALENDAR