BEGIN:VCALENDAR
VERSION:2.0
PRODID:-//eventon.com NONSGML v1.0//EN
CALSCALE:GREGORIAN
METHOD:PUBLISH
BEGIN:VEVENT
UID:69e73135584e8
DTSTAMP:20260421T081133Z
DTSTART:20250413T100000Z
DTEND:20250413T163000Z
LOCATION:Valhalla Games Club\,  Assen Stelmakerstraat 5\,  9403 VB Assen
SUMMARY:Tarkir: Dragonstorm release draft
DESCRIPTION:Tickets € 24 per player\,  available through tickets@valhallg
 ames.nl\nhttps://untap.nl/events/tarkir-dragonstorm-release-draft/
URL:https://untap.nl/events/tarkir-dragonstorm-release-draft/
END:VEVENT
END:VCALENDAR