BEGIN:VCALENDAR
VERSION:2.0
PRODID:-//eventon.com NONSGML v1.0//EN
CALSCALE:GREGORIAN
METHOD:PUBLISH
BEGIN:VEVENT
UID:69e89616750f2
DTSTAMP:20260422T093414Z
DTSTART:20250525T080000Z
DTEND:20250525T180000Z
LOCATION:Bumblebeez\,  Bergen op Zoom Kremerstraat 6\,  4611 TR Bergen op Zoom
SUMMARY:Regional Championship Qualifier (RCQ)
DESCRIPTION:Op zondag 25 mei organiseren we een RCQ. Dit is een qualifier v
 oor de Ultimate Guard European Magic Series Championship in Antwerpen van 2
 1 tm 23 november. Wanneer? Zondag 25 mei. De winkel is open vanaf 9:30. We 
 beginnen om 10:00. Waar? Bumblebeez Spellenwinkel\,  Kremerstraat 6 Bergen 
 op Zoom Format:[..]\nhttps://untap.nl/events/regional-championship-qualifie
 r-rcq-2/
URL:https://untap.nl/events/regional-championship-qualifier-rcq-2/
END:VEVENT
END:VCALENDAR