BEGIN:VCALENDAR
VERSION:2.0
PRODID:-//eventon.com NONSGML v1.0//EN
CALSCALE:GREGORIAN
METHOD:PUBLISH
BEGIN:VEVENT
UID:69e74415ec96e
DTSTAMP:20260421T093205Z
DTSTART:20240927T170000Z
DTEND:20240926T220000Z
LOCATION:De Springplank\,  Assendelft Saenredamstraat 34\,  1566 KM Assendelft
SUMMARY:Commander @Assendelft
DESCRIPTION:Commander spelen en Magic ruilen in Assendelft Deelname gratis 
 Drankjes en eten te krijgen tegen normale prijzen!\nhttps://untap.nl/events
 /commander-assendelft/
URL:https://untap.nl/events/commander-assendelft/
END:VEVENT
END:VCALENDAR