BEGIN:VCALENDAR
VERSION:2.0
PRODID:-//eventon.com NONSGML v1.0//EN
CALSCALE:GREGORIAN
METHOD:PUBLISH
BEGIN:VEVENT
UID:69e89ec14fb1e
DTSTAMP:20260422T101113Z
DTSTART:20240914T080000Z
DTEND:20240914T170000Z
LOCATION:Denksportcentrum Amersfoort Nijverheidsweg-Noord 76c\,  3812 PM Amersfoort
SUMMARY:Spellenpoort RCQ Modern
DESCRIPTION:De Spellenpoort gaat weer een Regional Championship Qualifier (
 RCQ) organiseren. Zaterdag 14 september\,  format is modern. Als je wint qu
 alify je voor de Regional Championship in Praag op 24-26 januari 2025. Afha
 nkelijk van het aantal deelnemers spelen we 3-5 rondes of swiss met top 4 o
 f 8.&nbsp; Datum 14 september[..]\nhttps://untap.nl/events/spellenpoort-rcq
 -modern/
URL:https://untap.nl/events/spellenpoort-rcq-modern/
END:VEVENT
END:VCALENDAR