BEGIN:VCALENDAR
VERSION:2.0
PRODID:-//eventon.com NONSGML v1.0//EN
CALSCALE:GREGORIAN
METHOD:PUBLISH
BEGIN:VEVENT
UID:69e72ea34065a
DTSTAMP:20260421T080035Z
DTSTART:20240413T080000Z
DTEND:20240413T150000Z
LOCATION:Pondok\,  Amsterdam Poeldijkstraat 391\,  1059 VL Amsterdam
SUMMARY:Dutch Pauper League – 2° leg – 2024 @ Pondok\,  Amsterdam
DESCRIPTION:The Dutch Pauper League is hosting the 2° leg of the 2024 seri
 es! Don&#8217;t miss the chance to have fun with our community\,  win tourn
 ament prizes and collect points for the final knockout tournament. The fina
 l champion also gets flight tickets to Milan and a bye for the Paupergeddon
  &#8211;[..]\nhttps://untap.nl/events/dutch-pauper-league-2-leg-2024-pondok
 -amsterdam/
URL:https://untap.nl/events/dutch-pauper-league-2-leg-2024-pondok-amsterdam/
END:VEVENT
END:VCALENDAR