BEGIN:VCALENDAR
VERSION:2.0
PRODID:-//eventon.com NONSGML v1.0//EN
CALSCALE:GREGORIAN
METHOD:PUBLISH
BEGIN:VEVENT
UID:69e4d0e63922b
DTSTAMP:20260419T125606Z
DTSTART:20240302T090000Z
DTEND:20240302T160000Z
LOCATION:Pondok\,  Amsterdam Poeldijkstraat 391\,  1059 VL Amsterdam
SUMMARY:Dutch Pauper League – 1° leg – 2024 @ Pondok\,  Amsterdam
DESCRIPTION:The Dutch Pauper League&nbsp;is hosting the 1° leg of the 2024
  series! Don&#8217;t miss the chance to have fun with our community\,  win&
 nbsp;tournament&nbsp;prizes&nbsp;and collect points for the final knockout 
 tournament. The final champion gets&nbsp;flight tickets&nbsp;to Milan and a
 &nbsp;bye for the Paupergeddon &#8211; Winter Edition (March 2025)! Which p
 layer will represent[..]\nhttps://untap.nl/events/dutch-pauper-league-1-leg
 -2024-pondok-amsterdam/
URL:https://untap.nl/events/dutch-pauper-league-1-leg-2024-pondok-amsterdam/
END:VEVENT
END:VCALENDAR