BEGIN:VCALENDAR
VERSION:2.0
PRODID:-//eventon.com NONSGML v1.0//EN
CALSCALE:GREGORIAN
METHOD:PUBLISH
BEGIN:VEVENT
UID:69e7473585bb9
DTSTAMP:20260421T094525Z
DTSTART:20240112T120000Z
DTEND:20240112T160000Z
LOCATION:De Spellenhoorn\,  Hoorn Nieuwsteeg 34\,  1621 EE Hoorn
SUMMARY:Ravnica Remastered Sealed @ De Spellenhoorn
DESCRIPTION:Inschrijven via onze website:&nbsp;https://www.despellenhoorn.n
 l/events/ravnica-remastered-sealed/ Tijd:&nbsp;13:00 uurFormat:&nbsp;Sealed
 Kosten:&nbsp;€ 50\, -Rondes:&nbsp;3REL:&nbsp;Regular Maak je inschrijving
  af: Download de Companion app op je telefoon (zoek op “Companion app mag
 ic”). Log hier in met je wizards account. Deze heb je als het goed is eer
 der al aangemaakt op de wizards website door middel van je DCI nummer.[..]\
 nhttps://untap.nl/events/ravnica-remastered-sealed-de-spellenhoorn/
URL:https://untap.nl/events/ravnica-remastered-sealed-de-spellenhoorn/
END:VEVENT
END:VCALENDAR