BEGIN:VCALENDAR
VERSION:2.0
PRODID:-//eventon.com NONSGML v1.0//EN
CALSCALE:GREGORIAN
METHOD:PUBLISH
BEGIN:VEVENT
UID:69e889e9b9de5
DTSTAMP:20260422T084217Z
DTSTART:20230415T093000Z
DTEND:20230415T150000Z
LOCATION:Stayokay\,  Amsterdam Oost Stayokay Hostel Amsterdam Oost\,  Timorplein 21\,  1094CC Amsterdam
SUMMARY:Prerelease March of the Machine @ Stayokay Hostel Amsterdam Oost
DESCRIPTION:The Phyrexians have invaded\,  and the Multiverse is in perilâ€
 ”the only option is to take one last stand. March of the Machine brings eve
 ry remaining hero together to stand against the ultimate evil\,  drawing th
 e Phyrexian story arc to a close. Voordat de nieuwe set â€śMarch of the Mac
 hineâ€ť in[..]\nhttps://untap.nl/events/prerelease-march-of-the-machine-sta
 yokay-hostel-amsterdam-oost/
URL:https://untap.nl/events/prerelease-march-of-the-machine-stayokay-hostel-amsterdam-oost/
END:VEVENT
END:VCALENDAR