BEGIN:VCALENDAR
VERSION:2.0
PRODID:-//eventon.com NONSGML v1.0//EN
CALSCALE:GREGORIAN
METHOD:PUBLISH
BEGIN:VEVENT
UID:69e8a3ae8f1e8
DTSTAMP:20260422T103214Z
DTSTART:20181215T100000Z
DTEND:20181215T225000Z
LOCATION:2 Klaveren\,  Amsterdam De Clercqstraat 136\,  1052 NP Amsterdam
SUMMARY:PPTQ Standard – Amsterdam
DESCRIPTION:VAME (Vermeire Amsterdam Magic Events) organiseert i.s.m. The G
 amekeeper in het laatste PPTQ seizoen ooit: Standard PPTQ voor Pro Tour Lon
 don 2019. De winnaar ontvangt een uitnodiging om mee te doen met een RPTQ\,
   waar je een exclusieve Noble Hierarch promo ontvangt. Verder gaan er per
  speler 2 boosters Guilds of[..]\nhttps://untap.nl/events/pptq-standard-ams
 terdam/
URL:https://untap.nl/events/pptq-standard-amsterdam/
END:VEVENT
END:VCALENDAR